BEGIN:VCALENDAR
VERSION:2.0
PRODID:-//hacksw/handcal//NONSGML v1.0//EN
BEGIN:VEVENT
SUMMARY:Plateau U9 D1 a SEYNOD RDV 8h45
UID:5f298e61-9ef3-4129-96db-d4e026b704dc
DTSTART:20260425T064500Z
DTEND:20260425T093000Z
LOCATION:Localisation   
CATEGORIES:Sportif
STATUS:
DESCRIPTION:<p>Plateau U9 D1 a SEYNOD</p>
 
 <p><strong>RDV 8h45 au
 stade a Chavanod</strong></p>
 
 <p>Debut du plateau
 9h30</p>
 
 <p><u><strong>STAFF</strong></u> : <strong>GUILLAUME &
 AUREL & NICO</strong></p>
 
 <p>06.82.57.00.09</p>
 
 <p><strong>JOUEUR
 EGALEMENT CONVOQUE : Ilyas BELHOUARIA</strong></p>
URL;VALUE=URI:https://www.cochavanodfoot.com/evenements/2026/04/25/plateau-u9-d1-a-seynod-rdv-8h45-2444263
END:VEVENT
END:VCALENDAR
