BEGIN:VCALENDAR
VERSION:2.0
PRODID:-//hacksw/handcal//NONSGML v1.0//EN
BEGIN:VEVENT
SUMMARY:U11 C - Plateau a La Filiere
UID:894a03da-a317-4b65-a913-960011678a8d
DTSTART:20260425T063000Z
DTEND:20260425T100000Z
LOCATION:Localisation   
CATEGORIES:Sportif
STATUS:
DESCRIPTION:<p><span style="font-family:Calibri;"><span
 style="font-size:11pt;"><span style="font-weight:bold;">U11C :
 Plateau D2 a La Filiere </span></span><span
 style="font-size:11pt;">(adresse : </span><a
 href="https://www.google.com/maps/place/data=!4m2!3m1!1s0x478b8babc711dc77:0xdb0c954d464ce72d?sa=X&ved=1t:8290&ictx=111"
 target="_blank" rel="noreferrer noopener"><span
 style="font-size:10.5pt;"><span>122 Rue de Grosses Terres, 74570
 Filliere</span></span></a><span
 style="font-size:10.5pt;"><span>)</span></span></span></p>
 
 <p><span
 style="font-size:11pt;"><span style="font-family:Calibri;"><span
 style="color:#fa0000;"><span style="font-weight:bold;">RDV a 8h30 a
 Chavanod</span></span></span></span></p>
 
 <p><span
 style="font-size:11pt;"><span style="font-family:Calibri;">Debut des
 matchs a 10h</span></span></p>
 
 <p><span
 style="font-size:11pt;"><span style="font-family:Calibri;">Staff :
 Fred (07 67 09 73 95)</span></span></p>
URL;VALUE=URI:https://www.cochavanodfoot.com/evenements/2026/04/25/u11-c-plateau-a-la-filiere-2444311
END:VEVENT
END:VCALENDAR
